BEGIN:VCALENDAR
PRODID:-//Ben Fortuna//iCal4j 1.0//EN
VERSION:2.0
CALSCALE:GREGORIAN
BEGIN:VTIMEZONE
TZID:Europe/Berlin
LAST-MODIFIED:20201010T011803Z
TZURL:http://tzurl.org/zoneinfo/Europe/Berlin
X-LIC-LOCATION:Europe/Berlin
X-PROLEPTIC-TZNAME:LMT
BEGIN:STANDARD
TZNAME:CET
TZOFFSETFROM:+005328
TZOFFSETTO:+0100
DTSTART:18930401T000000
END:STANDARD
BEGIN:DAYLIGHT
TZNAME:CEST
TZOFFSETFROM:+0100
TZOFFSETTO:+0200
DTSTART:19160430T230000
RDATE:19400401T020000
RDATE:19430329T020000
RDATE:19460414T020000
RDATE:19470406T030000
RDATE:19480418T020000
RDATE:19490410T020000
RDATE:19800406T020000
END:DAYLIGHT
BEGIN:STANDARD
TZNAME:CET
TZOFFSETFROM:+0200
TZOFFSETTO:+0100
DTSTART:19161001T010000
RDATE:19421102T030000
RDATE:19431004T030000
RDATE:19441002T030000
RDATE:19451118T030000
RDATE:19461007T030000
END:STANDARD
BEGIN:DAYLIGHT
TZNAME:CEST
TZOFFSETFROM:+0100
TZOFFSETTO:+0200
DTSTART:19170416T020000
RRULE:FREQ=YEARLY;UNTIL=19180415T010000Z;BYMONTH=4;BYDAY=3MO
END:DAYLIGHT
BEGIN:STANDARD
TZNAME:CET
TZOFFSETFROM:+0200
TZOFFSETTO:+0100
DTSTART:19170917T030000
RRULE:FREQ=YEARLY;UNTIL=19180916T010000Z;BYMONTH=9;BYDAY=3MO
END:STANDARD
BEGIN:DAYLIGHT
TZNAME:CEST
TZOFFSETFROM:+0100
TZOFFSETTO:+0200
DTSTART:19440403T020000
RRULE:FREQ=YEARLY;UNTIL=19450402T010000Z;BYMONTH=4;BYDAY=1MO
END:DAYLIGHT
BEGIN:DAYLIGHT
TZNAME:CEMT
TZOFFSETFROM:+0200
TZOFFSETTO:+0300
DTSTART:19450524T020000
RDATE:19470511T030000
END:DAYLIGHT
BEGIN:DAYLIGHT
TZNAME:CEST
TZOFFSETFROM:+0300
TZOFFSETTO:+0200
DTSTART:19450924T030000
RDATE:19470629T030000
END:DAYLIGHT
BEGIN:STANDARD
TZNAME:CET
TZOFFSETFROM:+0100
TZOFFSETTO:+0100
DTSTART:19460101T000000
RDATE:19800101T000000
END:STANDARD
BEGIN:STANDARD
TZNAME:CET
TZOFFSETFROM:+0200
TZOFFSETTO:+0100
DTSTART:19471005T030000
RRULE:FREQ=YEARLY;UNTIL=19491002T010000Z;BYMONTH=10;BYDAY=1SU
END:STANDARD
BEGIN:STANDARD
TZNAME:CET
TZOFFSETFROM:+0200
TZOFFSETTO:+0100
DTSTART:19800928T030000
RRULE:FREQ=YEARLY;UNTIL=19950924T010000Z;BYMONTH=9;BYDAY=-1SU
END:STANDARD
BEGIN:DAYLIGHT
TZNAME:CEST
TZOFFSETFROM:+0100
TZOFFSETTO:+0200
DTSTART:19810329T020000
RRULE:FREQ=YEARLY;BYMONTH=3;BYDAY=-1SU
END:DAYLIGHT
BEGIN:STANDARD
TZNAME:CET
TZOFFSETFROM:+0200
TZOFFSETTO:+0100
DTSTART:19961027T030000
RRULE:FREQ=YEARLY;BYMONTH=10;BYDAY=-1SU
END:STANDARD
END:VTIMEZONE
BEGIN:VEVENT
DTSTAMP:20260422T103537Z
DTSTART;VALUE=DATE:20260314
DTEND;VALUE=DATE:20260316
SUMMARY: I • O • A • M – Die Auto- und Mobilitätsmesse
CREATED:20260202T130517Z
LAST-MODIFIED:20260304T092714Z
DESCRIPTION:IOAM 2026 – ein Muss für alle\, die Spaß an Autos\, Motorräde
 rn\, E-Bikes und Oldtimern habenIdar-Oberstein. Am 14. und 15. März 2026
 \, jeweils von 10 bis 18 Uhr\, öffnet die Idar-Obersteiner Automesse (IO
 AM) zum elften Mal ihre Türen in der Messe Idar-Oberstein.\n\n\n\n\nDie 
 starke Beteiligung der lokalen Autohäuser mit ihren Automarken sorgt daf
 ür\, dass alle drei Hallen sowie das Foyer der Messe belegt sind. Es bet
 eiligen sich unter anderem das Autohaus Barth & Frey mit attraktiven Jah
 reswagen der Marken Opel und Peugeot\, das Autohaus Lofi mit den neusten
  Modellen von Renault\, Dacia und Nissan\, das Autohaus Kielburger mit s
 einen Marken Mazda und Kawasaki\, das Autohaus Kirschweiler mit einer br
 eiten Produktpalette von Toyota\, das Autohaus Nahetal mit seinen Marken
  VW\, Audi und Skoda und die PS Autogalerie mit Modellen von Jeep\, Alfa
  Romeo\, Fiat und Dodge. Neu dabei ist das Autohaus Hohmann aus Kirn\, u
 nter anderem mit den chinesischen Marken BAIC\, Dongfeng (DEM) und Bestu
 ne sowie E-Bikes verschiedener Hersteller (Haibike\, Ghost\, Winora\, La
 pierre).\n\n\n\n\nIm Foyer zeigt das APC Autopflegecenter sein Angebot r
 und um die Pflege und Wertsteigerung von Fahrzeugen und die Fahrschule W
 irtz gibt Tipps zu Fahrtraining\, Fahrsicherheit und Führerschein. Im Au
 ßenbereich bietet die Fahrschule Wirtz eigens einen Trainingsparcours an
 .\n\n\n\n\nEin besonderes Highlight der Messe ist die angedockte Oldtime
 r-Ausstellung. Oldtimer-Enthusiast Leonhard Stibitz wird für Interessier
 te Erläuterungen zu den einzelnen Prachtstücken geben und die Geschichte
  dieser automobilen Klassiker lebendig werden lassen.\n\n\n\n\nDie offiz
 ielle Eröffnung der Messe findet am Samstag\, den 14. März um 13:30 Uhr 
 statt\, begleitet von Bürgermeister Friedrich Marx und der Deutschen Ede
 lsteinkönigin Vivien Heidrich. Für ein leckeres Catering während der Mes
 se ist ebenfalls gesorgt.\n\n\n\n\nDie Idar-Obersteiner Auto- und Mobili
 tätsmesse 2026 verspricht ein spannendes Erlebnis für alle Automobil- un
 d Mobilitätsbegeisterten. Der Eintritt ist frei. Weitere Informationen f
 inden Interessierte unter https://messe-io.de/portfolio-item/ioam/
LOCATION:Messe Idar-Oberstein
X-LOCATION-NAME:Messe Idar-Oberstein
X-STREET-ADDRESS:John-F.-Kennedy-Straße 9
X-POSTAL-CODE:55743
X-LOCALITY:Idar-Oberstein
GEO:49.7079284;7.3535469
X-ORGANIZER-NAME:Messe Idar-Oberstein GmbH
URL:https://messe-io.de/portfolio-item/ioam/
X-IONAS-CATEGORY:Messe / Verbraucherschau
CATEGORIES:Messe / Verbraucherschau
ATTACH;FMTTYPE=image/png:https://www.idar-oberstein.de/:translation/fr/id
 ar-oberstein/kalender/veranstaltungen/2026/03/2026-03-14-i-o-a-m-die-aut
 o-und-mobilitaetsmesse/logo-ioam-2025-600px-1.png?cid=bkx.3p93
UID:b04e5fec-3347-4595-82ef-9b09a6922b0f
END:VEVENT
END:VCALENDAR
